BEGIN:VCALENDAR
VERSION:2.0
PRODID:-//David Mandin - ECPv6.15.20//NONSGML v1.0//EN
CALSCALE:GREGORIAN
METHOD:PUBLISH
X-WR-CALNAME:David Mandin
X-ORIGINAL-URL:https://www.davidmandin.fr
X-WR-CALDESC:Évènements pour David Mandin
REFRESH-INTERVAL;VALUE=DURATION:PT1H
X-Robots-Tag:noindex
X-PUBLISHED-TTL:PT1H
BEGIN:VTIMEZONE
TZID:Europe/Paris
BEGIN:DAYLIGHT
TZOFFSETFROM:+0100
TZOFFSETTO:+0200
TZNAME:CEST
DTSTART:20250330T010000
END:DAYLIGHT
BEGIN:STANDARD
TZOFFSETFROM:+0200
TZOFFSETTO:+0100
TZNAME:CET
DTSTART:20251026T010000
END:STANDARD
BEGIN:DAYLIGHT
TZOFFSETFROM:+0100
TZOFFSETTO:+0200
TZNAME:CEST
DTSTART:20260329T010000
END:DAYLIGHT
BEGIN:STANDARD
TZOFFSETFROM:+0200
TZOFFSETTO:+0100
TZNAME:CET
DTSTART:20261025T010000
END:STANDARD
BEGIN:DAYLIGHT
TZOFFSETFROM:+0100
TZOFFSETTO:+0200
TZNAME:CEST
DTSTART:20270328T010000
END:DAYLIGHT
BEGIN:STANDARD
TZOFFSETFROM:+0200
TZOFFSETTO:+0100
TZNAME:CET
DTSTART:20271031T010000
END:STANDARD
END:VTIMEZONE
BEGIN:VEVENT
DTSTART;TZID=Europe/Paris:20260521T100000
DTEND;TZID=Europe/Paris:20260521T170000
DTSTAMP:20260423T121652
CREATED:20260130T180808Z
LAST-MODIFIED:20260130T180808Z
UID:2789-1779357600-1779382800@www.davidmandin.fr
SUMMARY:Descendre son plan d’incarnation\, Recevoir son canal et l’activer – Journée en Individuel – Soins et Nettoyages énergétiques – jeudi 21 mai 2026 – 250€
DESCRIPTION:
URL:https://www.davidmandin.fr/event/descendre-son-plan-dincarnation-recevoir-son-canal-et-lactiver-journee-en-individuel-soins-et-nettoyages-energetiques-jeudi-21-mai-2026-250e/
LOCATION:Forêt de Touffou (Vertou\, 44)\, Vertou\, 44120\, France
CATEGORIES:Atelier,Ballade en nature,Soins Énergétiques
ATTACH;FMTTYPE=application/pdf:https://www.davidmandin.fr/wp-content/uploads/2026/01/Journee-activer-son-canal-mai-2026_compressed.pdf
END:VEVENT
END:VCALENDAR